Workbook

Sheet 2026 年上半年乌海市药品配送企业考核得分表
A1: 2026 年上半年乌海市药品配送企业考核得分表
B2: 1.配送到位率 | C2: 2.三日配送率 | D2: 3.数据质量 | E2: 4.医疗机构满意度 | F2: 5.基层医疗机构覆盖率 | H2: 6.集采政策执行情况
A3: 配送企业名称 | B3: 药品配送到位率分值 | C3: 药品三日配送率分值 | D3: 药品配送企业网上配送信息与实际货物票据不一致情况（满分15分，发现一起扣5分） | E3: 满意度得分 | F3: 基层药品配送金额占比得分（加分项：5分） | G3: 药品基层配送机构数量分值（加分项：5分） | H3: 集采政策执行情况（一起扣10分，最多扣20分）扣分项 | I3: 总分 | J3: 考核结果
A4: 安国市安兴中药饮片有限公司 | B4: 0 | C4: =IFERROR(VLOOKUP(A4,[1]药品三日配送率分值表!A1:D37,4,0),0) -> 0 | D4: 15 | E4: 0 | F4: 0 | G4: =IFERROR(VLOOKUP(A4,[1]药品基层配送机构数量分值!A:D,4,0),0) -> 5 | H4: 0 | I4: =SUM(B4:G4) -> 20 | J4: 不合格
A5: 安徽润芙蓉药业有限公司 | B5: 0 | C5: =IFERROR(VLOOKUP(A5,[1]药品三日配送率分值表!A2:D38,4,0),0) -> 0 | D5: 15 | E5: 10 | F5: 0 | G5: =IFERROR(VLOOKUP(A5,[1]药品基层配送机构数量分值!A:D,4,0),0) -> 5 | H5: 0 | I5: =SUM(B5:G5) -> 30 | J5: 不合格
A6: 安徽新盛中药饮片有限公司 | B6: 39.563354 | C6: =IFERROR(VLOOKUP(A6,[1]药品三日配送率分值表!A3:D39,4,0),0) -> 30 | D6: 15 | E6: 12 | F6: 0.59419521 | G6: =IFERROR(VLOOKUP(A6,[1]药品基层配送机构数量分值!A:D,4,0),0) -> 2.5 | H6: 0 | I6: =SUM(B6:G6) -> 99.65755 | J6: 优秀
A7: 包头富康医药有限责任公司 | B7: 40.262923 | C7: =IFERROR(VLOOKUP(A7,[1]药品三日配送率分值表!A4:D40,4,0),0) -> 29.804095 | D7: 15 | E7: 15 | F7: 0 | G7: =IFERROR(VLOOKUP(A7,[1]药品基层配送机构数量分值!A:D,4,0),0) -> 0 | H7: 0 | I7: =SUM(B7:G7) -> 100.06702 | J7: 优秀
A8: 包头九合药业有限公司 | B8: 39.367151 | C8: =IFERROR(VLOOKUP(A8,[1]药品三日配送率分值表!A5:D41,4,0),0) -> 29.549211 | D8: 15 | E8: 13.909091 | F8: 1.2486845 | G8: =IFERROR(VLOOKUP(A8,[1]药品基层配送机构数量分值!A:D,4,0),0) -> 4.5454545 | H8: 0 | I8: =SUM(B8:G8) -> 103.61959 | J8: 优秀
A9: 北京康仁堂药业有限公司 | B9: 39.96791 | C9: =IFERROR(VLOOKUP(A9,[1]药品三日配送率分值表!A6:D42,4,0),0) -> 29.975932 | D9: 15 | E9: 11 | F9: 5 | G9: =IFERROR(VLOOKUP(A9,[1]药品基层配送机构数量分值!A:D,4,0),0) -> 0 | H9: 0 | I9: =SUM(B9:G9) -> 100.94384 | J9: 优秀
A10: 赤峰丹龙医药有限公司 | B10: 40 | C10: =IFERROR(VLOOKUP(A10,[1]药品三日配送率分值表!A7:D43,4,0),0) -> 30 | D10: 15 | E10: 9.7777778 | F10: 4.3943795 | G10: =IFERROR(VLOOKUP(A10,[1]药品基层配送机构数量分值!A:D,4,0),0) -> 4.1666667 | H10: 0 | I10: =SUM(B10:G10) -> 103.33882 | J10: 优秀
A11: 甘肃佛慈红日药业有限公司 | B11: 33.477707 | C11: =IFERROR(VLOOKUP(A11,[1]药品三日配送率分值表!A8:D44,4,0),0) -> 25.10828 | D11: 15 | E11: 9 | F11: 5 | G11: =IFERROR(VLOOKUP(A11,[1]药品基层配送机构数量分值!A:D,4,0),0) -> 0 | H11: 0 | I11: =SUM(B11:G11) -> 87.585987 | J11: 合格
A12: 国药控股内蒙古有限公司 | B12: 37.51731 | C12: =IFERROR(VLOOKUP(A12,[1]药品三日配送率分值表!A9:D45,4,0),0) -> 0 | D12: 15 | E12: 13.8 | F12: 4.6336313 | G12: =IFERROR(VLOOKUP(A12,[1]药品基层配送机构数量分值!A:D,4,0),0) -> 3 | H12: 0 | I12: =SUM(B12:G12) -> 73.950942 | J12: 合格
A13: 国药控股乌海有限公司 | B13: 0 | C13: =IFERROR(VLOOKUP(A13,[1]药品三日配送率分值表!A10:D46,4,0),0) -> 0 | D13: 15 | E13: 0 | F13: 0 | G13: 0 | H13: 0 | I13: =SUM(B13:G13) -> 15 | J13: 不合格
A14: 河北蔺氏盛泰药业有限公司 | B14: 40 | C14: =IFERROR(VLOOKUP(A14,[1]药品三日配送率分值表!A11:D47,4,0),0) -> 30 | D14: 15 | E14: 11 | F14: 4.6430453 | G14: =IFERROR(VLOOKUP(A14,[1]药品基层配送机构数量分值!A:D,4,0),0) -> 0 | H14: 0 | I14: =SUM(B14:G14) -> 100.64305 | J14: 优秀
A15: 河北仁心药业有限公司 | B15: 0 | C15: =IFERROR(VLOOKUP(A15,[1]药品三日配送率分值表!A12:D48,4,0),0) -> 0 | D15: 15 | E15: 0 | F15: 0 | G15: =IFERROR(VLOOKUP(A15,[1]药品基层配送机构数量分值!A:D,4,0),0) -> 5 | H15: 0 | I15: =SUM(B15:G15) -> 20 | J15: 不合格
A16: 呼和浩特市福瑞药业有限责任公司 | B16: 40 | C16: =IFERROR(VLOOKUP(A16,[1]药品三日配送率分值表!A13:D49,4,0),0) -> 30 | D16: 15 | E16: 15 | F16: 0 | G16: =IFERROR(VLOOKUP(A16,[1]药品基层配送机构数量分值!A:D,4,0),0) -> 0 | H16: 0 | I16: =SUM(B16:G16) -> 100 | J16: 优秀
A17: 华润内蒙古医药有限公司 | B17: 38.002531 | C17: =IFERROR(VLOOKUP(A17,[1]药品三日配送率分值表!A14:D50,4,0),0) -> 0 | D17: 15 | E17: 13.2 | F17: 0.62169288 | G17: =IFERROR(VLOOKUP(A17,[1]药品基层配送机构数量分值!A:D,4,0),0) -> 3 | H17: 0 | I17: =SUM(B17:G17) -> 69.824224 | J17: 合格
A18: 华润三九现代中药制药有限公司 | B18: 40 | C18: =IFERROR(VLOOKUP(A18,[1]药品三日配送率分值表!A15:D51,4,0),0) -> 30 | D18: 15 | E18: 10 | F18: 0 | G18: =IFERROR(VLOOKUP(A18,[1]药品基层配送机构数量分值!A:D,4,0),0) -> 0 | H18: 0 | I18: =SUM(B18:G18) -> 95 | J18: 优秀
A19: 华源泉济(北京)医药科技有限公司 | B19: 0 | C19: =IFERROR(VLOOKUP(A19,[1]药品三日配送率分值表!A16:D52,4,0),0) -> 30 | D19: 15 | E19: 15 | F19: 0 | G19: =IFERROR(VLOOKUP(A19,[1]药品基层配送机构数量分值!A:D,4,0),0) -> 5 | H19: 0 | I19: =SUM(B19:G19) -> 65 | J19: 合格
A20: 江苏恩华和信医药营销有限公司 | B20: 32.536465 | C20: =IFERROR(VLOOKUP(A20,[1]药品三日配送率分值表!A17:D53,4,0),0) -> 25.113806 | D20: 15 | E20: 15 | F20: 0 | G20: =IFERROR(VLOOKUP(A20,[1]药品基层配送机构数量分值!A:D,4,0),0) -> 0 | H20: 0 | I20: =SUM(B20:G20) -> 87.650271 | J20: 合格
A21: 江阴天江药业有限公司 | B21: 36.983398 | C21: =IFERROR(VLOOKUP(A21,[1]药品三日配送率分值表!A18:D54,4,0),0) -> 0 | D21: 15 | E21: 14 | F21: 0 | G21: =IFERROR(VLOOKUP(A21,[1]药品基层配送机构数量分值!A:D,4,0),0) -> 0 | H21: 0 | I21: =SUM(B21:G21) -> 65.983398 | J21: 合格
A22: 内蒙古百瑞祥医药有限公司 | B22: 39.792339 | C22: =IFERROR(VLOOKUP(A22,[1]药品三日配送率分值表!A19:D55,4,0),0) -> 0 | D22: 15 | E22: 14 | F22: 4.5641714 | G22: =IFERROR(VLOOKUP(A22,[1]药品基层配送机构数量分值!A:D,4,0),0) -> 3.8461538 | H22: 0 | I22: =SUM(B22:G22) -> 77.202664 | J22: 合格
A23: 内蒙古本草药业有限公司 | B23: 40 | C23: =IFERROR(VLOOKUP(A23,[1]药品三日配送率分值表!A20:D56,4,0),0) -> 30 | D23: 15 | E23: 12 | F23: 5 | G23: =IFERROR(VLOOKUP(A23,[1]药品基层配送机构数量分值!A:D,4,0),0) -> 0 | H23: 0 | I23: =SUM(B23:G23) -> 102 | J23: 优秀
A24: 内蒙古灃灏药业有限责任公司 | B24: 40 | C24: =IFERROR(VLOOKUP(A24,[1]药品三日配送率分值表!A21:D57,4,0),0) -> 30 | D24: 15 | E24: 11 | F24: 0 | G24: =IFERROR(VLOOKUP(A24,[1]药品基层配送机构数量分值!A:D,4,0),0) -> 0 | H24: 0 | I24: =SUM(B24:G24) -> 96 | J24: 优秀
A25: 内蒙古弘达医药有限公司 | B25: 39.331497 | C25: =IFERROR(VLOOKUP(A25,[1]药品三日配送率分值表!A22:D58,4,0),0) -> 0 | D25: 15 | E25: 14.192308 | F25: 2.4348363 | G25: =IFERROR(VLOOKUP(A25,[1]药品基层配送机构数量分值!A:D,4,0),0) -> 3.1481481 | H25: 0 | I25: =SUM(B25:G25) -> 74.106789 | J25: 合格
... A42: 重药控股内蒙古有限公司 | B42: 18.236587 | C42: =IFERROR(VLOOKUP(A42,[1]药品三日配送率分值表!A39:D75,4,0),0) -> 0 | D42: 15 | E42: 13.714286 | F42: 0.095284765 | G42: =IFERROR(VLOOKUP(A42,[1]药品基层配送机构数量分值!A:D,4,0),0) -> 0.71428571 | H42: 0 | I42: =SUM(B42:G42) -> 47.760443 | J42: 不合格

Sheet 2026 年上半年乌海市耗材配送企业考核得分表
A1: 2026 年上半年乌海市耗材配送企业考核得分表
D2: 1.配送到位率 | E2: 2.三日配送率 | F2: 3.数据质量 | G2: 4.医疗机构满意度 | H2: 5.基层医疗机构覆盖率 | J2: 6.集采政策执行情况
A3: 配送企业名称 | B3: 收货金额 | C3: 采购金额 | D3: 耗材配送到位率分值 | E3: 耗材三日配送率得分 | F3: 药品配送企业网上配送信息与实际货物票据不一致情况（满分15分，发现一起扣5分） | G3: 满意度得分 | H3: 基层耗材配送金额占比得分 | I3: 耗材基层配送机构数量分值 | J3: 集采政策执行情况（一起扣10分，最多扣20分）扣分项 | K3: 总分 | L3: 考核结果
A4: 包头市海得威医疗器械有限公司 | B4: 64080 | C4: 97349.04 | D4: 26.329998 | E4: =IFERROR(VLOOKUP(A4,[1]耗材三日配送率分值表!A$1:D$65536,4,0),0) -> 30 | F4: 15 | G4: 12 | H4: 0 | I4: =IFERROR(VLOOKUP(A4,[1]耗材基层配送机构数量分值!A$1:D$65536,4,0),0) -> 0 | J4: 0 | K4: =SUM(D4:I4) -> 83.329998 | L4: 优秀
A5: 包头市华森医疗器械有限公司 | B5: 84482 | C5: 87845 | D5: 38.468666 | E5: =IFERROR(VLOOKUP(A5,[1]耗材三日配送率分值表!A$1:D$65536,4,0),0) -> 30 | F5: 15 | G5: 11 | H5: 0 | I5: =IFERROR(VLOOKUP(A5,[1]耗材基层配送机构数量分值!A$1:D$65536,4,0),0) -> 0 | J5: 0 | K5: =SUM(D5:I5) -> 94.468666 | L5: 优秀
A6: 包头市继美医疗器械有限责任公司 | B6: 375 | C6: 750 | D6: 20 | E6: =IFERROR(VLOOKUP(A6,[1]耗材三日配送率分值表!A$1:D$65536,4,0),0) -> 30 | F6: 15 | G6: 15 | H6: 0 | I6: =IFERROR(VLOOKUP(A6,[1]耗材基层配送机构数量分值!A$1:D$65536,4,0),0) -> 0 | J6: 0 | K6: =SUM(D6:I6) -> 80 | L6: 优秀
A7: 包头市鑫天创医疗设备有限公司 | B7: 54955 | C7: 54955 | D7: 40 | E7: =IFERROR(VLOOKUP(A7,[1]耗材三日配送率分值表!A$1:D$65536,4,0),0) -> 30 | F7: 15 | G7: 12.5 | H7: 0 | I7: =IFERROR(VLOOKUP(A7,[1]耗材基层配送机构数量分值!A$1:D$65536,4,0),0) -> 0 | J7: 0 | K7: =SUM(D7:I7) -> 97.5 | L7: 优秀
A8: 北京富江裕新医疗器械有限公司 | B8: 4400 | C8: 4400 | D8: 40 | E8: =IFERROR(VLOOKUP(A8,[1]耗材三日配送率分值表!A$1:D$65536,4,0),0) -> 30 | F8: 15 | G8: 10 | H8: 0 | I8: =IFERROR(VLOOKUP(A8,[1]耗材基层配送机构数量分值!A$1:D$65536,4,0),0) -> 0 | J8: 0 | K8: =SUM(D8:I8) -> 95 | L8: 优秀
A9: 北京国弘九州生物技术有限公司 | B9: 2539491.2 | C9: 2543986.2 | D9: 39.929324 | E9: =IFERROR(VLOOKUP(A9,[1]耗材三日配送率分值表!A$1:D$65536,4,0),0) -> 30 | F9: 15 | G9: 13 | H9: 0 | I9: =IFERROR(VLOOKUP(A9,[1]耗材基层配送机构数量分值!A$1:D$65536,4,0),0) -> 0 | J9: 0 | K9: =SUM(D9:I9) -> 97.929324 | L9: 优秀
A10: 北京惠隆康达医疗器械有限公司 | B10: 220944.12 | C10: 220944.12 | D10: 40 | E10: =IFERROR(VLOOKUP(A10,[1]耗材三日配送率分值表!A$1:D$65536,4,0),0) -> 30 | F10: 15 | G10: 15 | H10: 0 | I10: =IFERROR(VLOOKUP(A10,[1]耗材基层配送机构数量分值!A$1:D$65536,4,0),0) -> 0 | J10: 0 | K10: =SUM(D10:I10) -> 100 | L10: 优秀
A11: 北京九州惠康商贸有限公司 | B11: 835622.18 | C11: 985260.83 | D11: 33.924912 | E11: =IFERROR(VLOOKUP(A11,[1]耗材三日配送率分值表!A$1:D$65536,4,0),0) -> 30 | F11: 15 | G11: 14.142857 | H11: 0.053460869 | I11: =IFERROR(VLOOKUP(A11,[1]耗材基层配送机构数量分值!A$1:D$65536,4,0),0) -> 3 | J11: 0 | K11: =SUM(D11:I11) -> 96.12123 | L11: 优秀
A12: 北京凯捷伟业科技有限公司 | B12: 459232.97 | C12: 459232.97 | D12: 40 | E12: =IFERROR(VLOOKUP(A12,[1]耗材三日配送率分值表!A$1:D$65536,4,0),0) -> 30 | F12: 15 | G12: 15 | H12: 0 | I12: =IFERROR(VLOOKUP(A12,[1]耗材基层配送机构数量分值!A$1:D$65536,4,0),0) -> 0 | J12: 0 | K12: =SUM(D12:I12) -> 100 | L12: 优秀
A13: 北京龙华盛世科技发展有限公司 | B13: 7279.3 | C13: 7279.3 | D13: 40 | E13: =IFERROR(VLOOKUP(A13,[1]耗材三日配送率分值表!A$1:D$65536,4,0),0) -> 30 | F13: 15 | G13: 10 | H13: 0 | I13: =IFERROR(VLOOKUP(A13,[1]耗材基层配送机构数量分值!A$1:D$65536,4,0),0) -> 0 | J13: 0 | K13: =SUM(D13:I13) -> 95 | L13: 优秀
A14: 北京腾远同景生物科技有限公司 | B14: 468800 | C14: 468800 | D14: 40 | E14: =IFERROR(VLOOKUP(A14,[1]耗材三日配送率分值表!A$1:D$65536,4,0),0) -> 30 | F14: 15 | G14: 15 | H14: 0 | I14: =IFERROR(VLOOKUP(A14,[1]耗材基层配送机构数量分值!A$1:D$65536,4,0),0) -> 0 | J14: 0 | K14: =SUM(D14:I14) -> 100 | L14: 优秀
A15: 北京威泰科生物技术有限公司 | B15: 59227 | C15: 63427 | D15: 37.351286 | E15: =IFERROR(VLOOKUP(A15,[1]耗材三日配送率分值表!A$1:D$65536,4,0),0) -> 30 | F15: 15 | G15: 10 | H15: 0 | I15: =IFERROR(VLOOKUP(A15,[1]耗材基层配送机构数量分值!A$1:D$65536,4,0),0) -> 0 | J15: 0 | K15: =SUM(D15:I15) -> 92.351286 | L15: 优秀
... A115: 重庆医药集团内蒙古天和医药有限公司 | B115: 38713.6 | C115: 38713.6 | D115: 40 | E115: =IFERROR(VLOOKUP(A115,[1]耗材三日配送率分值表!A$1:D$65536,4,0),0) -> 30 | F115: 15 | G115: 14 | H115: 0 | I115: =IFERROR(VLOOKUP(A115,[1]耗材基层配送机构数量分值!A$1:D$65536,4,0),0) -> 0 | J115: 0 | K115: =SUM(D115:I115) -> 99 | L115: 优秀
